BEGIN:VCALENDAR
VERSION:2.0
PRODID:-//POWER Interfaith - ECPv6.15.20//NONSGML v1.0//EN
CALSCALE:GREGORIAN
METHOD:PUBLISH
X-ORIGINAL-URL:https://powerinterfaith.org
X-WR-CALDESC:Events for POWER Interfaith
REFRESH-INTERVAL;VALUE=DURATION:PT1H
X-Robots-Tag:noindex
X-PUBLISHED-TTL:PT1H
BEGIN:VTIMEZONE
TZID:UTC
BEGIN:STANDARD
TZOFFSETFROM:+0000
TZOFFSETTO:+0000
TZNAME:UTC
DTSTART:20250101T000000
END:STANDARD
END:VTIMEZONE
BEGIN:VEVENT
DTSTART;TZID=UTC:20260115T180000
DTEND;TZID=UTC:20260115T200000
DTSTAMP:20260420T002622
CREATED:20260109T193941Z
LAST-MODIFIED:20260109T193941Z
UID:10000084-1768500000-1768507200@powerinterfaith.org
SUMMARY:Norristown Parent Meeting
DESCRIPTION:Build community power in Norristown! Join local parents and faith leaders as we share stories and create a shared vision of how we will address issues in our local schools. \n  \n 
URL:https://powerinterfaith.org/event/norristown-parent-meeting/
LOCATION:Haws Methodist Church\, 800 W Marshall Street\, Norristown\, PA\, 19401\, United States
END:VEVENT
END:VCALENDAR