BEGIN:VCALENDAR
VERSION:2.0
PRODID:-//POWER Interfaith - ECPv6.15.20//NONSGML v1.0//EN
CALSCALE:GREGORIAN
METHOD:PUBLISH
X-WR-CALNAME:POWER Interfaith
X-ORIGINAL-URL:https://powerinterfaith.org
X-WR-CALDESC:Events for POWER Interfaith
REFRESH-INTERVAL;VALUE=DURATION:PT1H
X-Robots-Tag:noindex
X-PUBLISHED-TTL:PT1H
BEGIN:VTIMEZONE
TZID:UTC
BEGIN:STANDARD
TZOFFSETFROM:+0000
TZOFFSETTO:+0000
TZNAME:UTC
DTSTART:20230101T000000
END:STANDARD
END:VTIMEZONE
BEGIN:VEVENT
DTSTART;TZID=UTC:20240813T100000
DTEND;TZID=UTC:20240813T120000
DTSTAMP:20260420T074850
CREATED:20240805T220045Z
LAST-MODIFIED:20240805T220227Z
UID:10000002-1723543200-1723550400@powerinterfaith.org
SUMMARY:Philadelphia Gas Commission -  Virtual Hearing
DESCRIPTION:Sign-up to receive updates on new information regarding the Philly Gas Commission Hearing that’s happening on the 13th. \nRegister: https://secure.everyaction.com/TV6iL5mZQ0aM89TW3KQPeg2
URL:https://powerinterfaith.org/event/philadelphia-gas-commission-virtual-hearing/
LOCATION:Virtual
CATEGORIES:Events
ATTACH;FMTTYPE=image/jpeg:https://powerinterfaith.org/wp-content/uploads/2024/06/logo-post-image-e1721851000491.jpg
END:VEVENT
BEGIN:VEVENT
DTSTART;TZID=UTC:20240731T180000
DTEND;TZID=UTC:20240731T200000
DTSTAMP:20260420T074850
CREATED:20240716T191005Z
LAST-MODIFIED:20240724T185321Z
UID:10000001-1722448800-1722456000@powerinterfaith.org
SUMMARY:Philly Climate Works Bike Outing
DESCRIPTION:Come bike with Philly Climate Works to learn more about Philly’s 2050 Climate Goals\, and the work that local organizations are doing to ensure that we meet these goals! We’ll have guest speakers from Clean Air Council\, Community Legal Services\, Physicians for Social Responsibility PA\, and POWER Interfaith. \nParticipants will go on a 3.5 mile bike ride from Center City to the Schuylkill River Trail\, with stops along the way to talk about climate resiliency\, housing justice\, and a just transition away from fossil fuels. \nThis event is FREE but registration is required. Participants will need a bike and helmet—if you don’t have either\, we’ll provide them if you indicate what you will need during registration. Please monitor the weather and dress appropriately; however if there is heavy rainfall\, the event will be postponed. \nWe will meet at 6pm at City Hall on the Northeast corner. If you need a bike or helmet\, please arrive 20 minutes prior to the start time to get situated with your bike and helmet. \nPlease note that this is an 18+ event and there are no pets allowed. \nLevel: Moderate\nCost: FREE\nBring: Water and a snack\, as well as your own bike and helmet (if you don’t have either\, we will provide them if indicated during registration) \nCancellation Policy: Heavy rain cancels
URL:https://powerinterfaith.org/event/philly-climate-works-bike-outing/
CATEGORIES:Climate,Events
ATTACH;FMTTYPE=image/webp:https://powerinterfaith.org/wp-content/uploads/2024/07/S4-Episode-Backgrounds-3-1.webp
END:VEVENT
END:VCALENDAR