BEGIN:VCALENDAR
VERSION:2.0
PRODID:-//POWER Interfaith - ECPv6.15.20//NONSGML v1.0//EN
CALSCALE:GREGORIAN
METHOD:PUBLISH
X-WR-CALNAME:POWER Interfaith
X-ORIGINAL-URL:https://powerinterfaith.org
X-WR-CALDESC:Events for POWER Interfaith
REFRESH-INTERVAL;VALUE=DURATION:PT1H
X-Robots-Tag:noindex
X-PUBLISHED-TTL:PT1H
BEGIN:VTIMEZONE
TZID:UTC
BEGIN:STANDARD
TZOFFSETFROM:+0000
TZOFFSETTO:+0000
TZNAME:UTC
DTSTART:20230101T000000
END:STANDARD
END:VTIMEZONE
BEGIN:VEVENT
DTSTART;TZID=UTC:20250524T130000
DTEND;TZID=UTC:20250524T143000
DTSTAMP:20260420T040306
CREATED:20250506T193317Z
LAST-MODIFIED:20250513T140158Z
UID:10000047-1748091600-1748097000@powerinterfaith.org
SUMMARY:Climate Justice & Jobs Education Workshop: Cobbs Creek Library
DESCRIPTION:Join us as we host this educational workshop\, where we will discuss why gas is harmful to our neighborhoods\, how city government works\, and how WE can win as a community. \nWe will discuss: \n\n\nHow harmful gas affects our health and homes \n\n\nHow city government decisions impact our communities \n\n\nWhat we can do\, together\, to WIN for our neighborhoodsOrganize with us and register for our Cobbs Creek Parkway Library Workshop!
URL:https://powerinterfaith.org/event/climate-justice-jobs-education-workshop-cobbs-county-library/
LOCATION:Cobbs Creek Library\, 5800 Cobbs Creek Parkway\, Philadelphia\, PA\, 19143\, United States
END:VEVENT
BEGIN:VEVENT
DTSTART;TZID=UTC:20250520T190000
DTEND;TZID=UTC:20250520T210000
DTSTAMP:20260420T040306
CREATED:20250408T160057Z
LAST-MODIFIED:20250429T162048Z
UID:10000040-1747767600-1747774800@powerinterfaith.org
SUMMARY:Center City Housing Justice Assembly
DESCRIPTION:Join POWER Center City for a town hall on housing affordability in Philly! Our congregations have invited councilmember Mark Squilla to discuss potential solutions to the growing affordability crisis in our city\, and to invite him to partner with us as we launch a city-wide housing campaign.
URL:https://powerinterfaith.org/event/center-city-housing-justice-assembly/
LOCATION:Old First Reformed United Church\, 151 N 4th St\, Philadelphia\, PA\, 19106
END:VEVENT
BEGIN:VEVENT
DTSTART;TZID=UTC:20250519T163000
DTEND;TZID=UTC:20250519T180000
DTSTAMP:20260420T040306
CREATED:20250506T192817Z
LAST-MODIFIED:20250506T192817Z
UID:10000046-1747672200-1747677600@powerinterfaith.org
SUMMARY:Climate Justice & Jobs Education Workshop: Building a Healthier\, Fairer Philly: Bushrod Library
DESCRIPTION:Join us as we host this educational workshop\, where we will discuss why gas is harmful to our neighborhoods\, how city government works\, and how WE can win as a community. \nWe will discuss: \n\n\nHow harmful gas affects our health and homes \n\n\nHow city government decisions impact our communities \n\n\nWhat we can do\, together\, to WIN for our neighborhoodsOrganize with us and register for our Bushrod Library Workshop!
URL:https://powerinterfaith.org/event/climate-justice-jobs-education-workshop-building-a-healthier-fairer-philly-bushrod-library/
LOCATION:Bushrod Library\, 6304 Castor Ave\, Philadelphia\, 19152\, United States
END:VEVENT
BEGIN:VEVENT
DTSTART;TZID=UTC:20250504T160000
DTEND;TZID=UTC:20250504T180000
DTSTAMP:20260420T040306
CREATED:20250410T193833Z
LAST-MODIFIED:20250410T193833Z
UID:10000041-1746374400-1746381600@powerinterfaith.org
SUMMARY:POWER W/SW PHILADELPHIA CLUSTER TOWNHALL
DESCRIPTION:Join POWER Center City for a town hall on housing affordability in West/Southwest Philly! We will discuss potential solutions to the growing affordability crisis in our city\, and to invite state representatives to partner with us as we launch a city-wide housing campaign.
URL:https://powerinterfaith.org/event/power-w-sw-philadelphia-cluster-townhall/
LOCATION:Salt and Light Church\, 5736 Chester Ave\, \, PA\, Philadelphia\, PA\, 19143\, United States
END:VEVENT
BEGIN:VEVENT
DTSTART;TZID=UTC:20250503T150000
DTEND;TZID=UTC:20250503T170000
DTSTAMP:20260420T040306
CREATED:20250410T194500Z
LAST-MODIFIED:20250410T195748Z
UID:10000042-1746284400-1746291600@powerinterfaith.org
SUMMARY:North Philly Town Hall at Gibson Temple Baptist Church
DESCRIPTION:Join POWER North Philly for a town hall on housing affordability in Philly! Our congregations have invited state representatives to discuss potential solutions to the growing affordability crisis in our city\, and to invite them to partner with us as we launch a city-wide housing campaign.
URL:https://powerinterfaith.org/event/north-philly-town-hall-at-gibson-temple-baptist-church/
LOCATION:Gibson Temple Baptist Church\, 2159 N 28th St\, Philadelphia\, PA\, 19121\, United States
END:VEVENT
BEGIN:VEVENT
DTSTART;TZID=UTC:20250501T180000
DTEND;TZID=UTC:20250501T200000
DTSTAMP:20260420T040306
CREATED:20250323T184201Z
LAST-MODIFIED:20250404T142209Z
UID:10000038-1746122400-1746129600@powerinterfaith.org
SUMMARY:POWER Lehigh Valley Town Hall on Fair Funding
DESCRIPTION:Join us as we discuss how the lack of state funding affects Lehigh Valley schools\, engage with our legislators on the state’s plans for the upcoming school year\, and learn about how we can demand change!
URL:https://powerinterfaith.org/event/power-lehigh-valley-town-hall-on-fair-funding/
LOCATION:Resurrected Life Church\, 620 Hamilton Street\, Allentown\, PA\, 18101\, United States
END:VEVENT
BEGIN:VEVENT
DTSTART;TZID=UTC:20250501T180000
DTEND;TZID=UTC:20250501T193000
DTSTAMP:20260420T040306
CREATED:20250323T184738Z
LAST-MODIFIED:20250323T184738Z
UID:10000039-1746122400-1746127800@powerinterfaith.org
SUMMARY:POWER Montgomery County Town Hall for Fair Funding
DESCRIPTION:Join us as we discuss how the lack of state funding affects Montgomery County schools\, engage with our legislators on the state’s plans for the upcoming school year\, and learn about how we can demand change!
URL:https://powerinterfaith.org/event/power-montgomery-county-town-hall-for-fair-funding/
LOCATION:Or Hadash\, 190 Camp Hill Road\, Fort Washington\, PA\, 19034\, United States
END:VEVENT
BEGIN:VEVENT
DTSTART;TZID=UTC:20250429T180000
DTEND;TZID=UTC:20250429T200000
DTSTAMP:20260420T040306
CREATED:20250313T175259Z
LAST-MODIFIED:20250313T175259Z
UID:10000035-1745949600-1745956800@powerinterfaith.org
SUMMARY:POWER Pottstown Town Hall
DESCRIPTION:We will be engaging with state legislators about the impact of our children’s education due to lack of state funding in the Pottstown and Pottsgrove areas. Demand change and take part in fighting for our neighborhood’s right to a fully-funded and equitable education.
URL:https://powerinterfaith.org/event/power-pottstown-town-hall/
LOCATION:TriCounty Active Adult Center\, 288 Moser Rd Ste 1\, Pottstown\, PA\, 19464\, United States
END:VEVENT
BEGIN:VEVENT
DTSTART;TZID=UTC:20250427T160000
DTEND;TZID=UTC:20250427T173000
DTSTAMP:20260420T040306
CREATED:20250313T181215Z
LAST-MODIFIED:20250313T181215Z
UID:10000036-1745769600-1745775000@powerinterfaith.org
SUMMARY:POWER Lancaster Town Hall on Fair Funding
DESCRIPTION:Join us as we discuss how the lack of state funding affects Lancaster schools\, engage with our legislators on the state’s plans for the upcoming school year\, and learn about how we can demand change!
URL:https://powerinterfaith.org/event/power-lancaster-town-hall-on-fair-funding/
LOCATION:Church of the Apostles UCC\, 1850 Marietta Ave\, Lancaster\, PA\, PA\, 17603\, United States
END:VEVENT
BEGIN:VEVENT
DTSTART;TZID=UTC:20250424T190000
DTEND;TZID=UTC:20250424T203000
DTSTAMP:20260420T040306
CREATED:20250313T182715Z
LAST-MODIFIED:20250318T154448Z
UID:10000037-1745521200-1745526600@powerinterfaith.org
SUMMARY:POWER Chester County Town Hall on Fair Funding
DESCRIPTION:Join us as Beth Israel Congregation of Chester County hosts a POWER Interfaith Community Conversation Town Hall to support Full and Fair state funding for PA’s K-12 public school system.  Members of Wellsprings Unitarian Universalist Church and many other congregations in Chester County will meet with state legislators to push for a school funding system in Pennsylvania that will enable every child to thrive and achieve.  This is fundamentally important to allow our state to meet the challenges of the future and to prosper.
URL:https://powerinterfaith.org/event/power-chester-town-hall-on-fair-funding/
LOCATION:Beth Israel Congregation of Chester County\, 385 Pottstown Pike\, Eagle\, PA\, 19480\, United States
END:VEVENT
BEGIN:VEVENT
DTSTART;TZID=UTC:20250418T150000
DTEND;TZID=UTC:20250418T170000
DTSTAMP:20260420T040306
CREATED:20250416T211550Z
LAST-MODIFIED:20250416T211550Z
UID:10000044-1744988400-1744995600@powerinterfaith.org
SUMMARY:Northwest Philly Town Hall for Affordable Housing
DESCRIPTION:Join us at POWER’s Northwest Philly Housing Justice Town Hall to hear stories from our leaders\, hear from Councilmembers\, and hear about our plans to launch our own agenda for truly affordable communities. The Town Hall will be May 18th from 3-5 PM at St Vincent De Paul Catholic Church.
URL:https://powerinterfaith.org/event/northwest-philly-town-hall-for-affordable-housing/
LOCATION:St. Johns Evangelical Lutheran Church\, 3101 Tyson Ave
END:VEVENT
BEGIN:VEVENT
DTSTART;TZID=UTC:20250406T143000
DTEND;TZID=UTC:20250406T163000
DTSTAMP:20260420T040306
CREATED:20250221T173000Z
LAST-MODIFIED:20250314T171114Z
UID:10000034-1743949800-1743957000@powerinterfaith.org
SUMMARY:Northwest Philly Education Justice Town Hall
DESCRIPTION:In February 2023\, Pennsylvania’s education funding system was ruled unconstitutional. While last year’s budget included nearly $1 billion in additional funding—allowing schools to make meaningful improvements—it’s only a fraction of the $5 billion needed to ensure adequate resources for every student. POWER and other local organizations have called for the full $5 billion to be legislated into law\, but so far\, no commitment has been made. \nWe’ll be speaking directly with State Representatives Andre Carroll\, Tarik Khan and Chris Rabb about the urgent need for fair public school funding. We call on parents\, students\, faith leaders and constituents to consider the impact of Philadelphia’s housing crisis on the stability of our community schools while sharing their stories and concerns.  \nCome prepared to: \n🔹 Share your stories and concerns directly with state legislators.\n🔹 Stand with our community to fight for education justice.
URL:https://powerinterfaith.org/event/northwest-philly-education-justice-town-hall/
LOCATION:Church of St. Martin-in-the-Fields\, 8000 St. Martins Lane\, Philadelphia\, 19118\, United States
END:VEVENT
BEGIN:VEVENT
DTSTART;TZID=UTC:20250116T120000
DTEND;TZID=UTC:20250116T140000
DTSTAMP:20260420T040306
CREATED:20241219T154946Z
LAST-MODIFIED:20241219T154946Z
UID:10000031-1737028800-1737036000@powerinterfaith.org
SUMMARY:Green Amendments Webinar
DESCRIPTION:The people of Pennsylvania have the right to clean air\, pure water\, and to preserve the environment’s natural\, historic\, scenic\, and aesthetic values. Pennsylvania’s public natural resources are the common property of all the people\, including future generations.The Commonwealth is the trustee of these resources and is responsible for conserving and maintaining them for the benefit of all the people. \nLearn from legal experts how constitutional state Green Amendment protections for environmental rights like PA’s Green Amendment\, help advance good quality clean energy projects\, contrary to the false narratives of industry opposition. Hear from POWER\, Interfaith’s climate leaders how POWER has used PA’s Green Amendment as a basis to advocate for affordable and renewable energy. \n  \n \n  \n 
URL:https://powerinterfaith.org/event/green-amendments-webinar/
LOCATION:https://docs.google.com/forms/d/e/1FAIpQLSfADLjL_602jhwiLIshfVfaRwFG2OpTEY7zuq9O8mQIBtDyeQ/viewform
END:VEVENT
BEGIN:VEVENT
DTSTART;TZID=UTC:20241210T180000
DTEND;TZID=UTC:20241210T203000
DTSTAMP:20260420T040306
CREATED:20240917T164215Z
LAST-MODIFIED:20240917T164215Z
UID:10000022-1733853600-1733862600@powerinterfaith.org
SUMMARY:Philly Research Meeting Debrief & Power Mapping Meeting
DESCRIPTION:Join POWER Philly Congregations to debrief our research meetings and begin mapping power and politics in Philly around housing and affordability issues. Location TBD. \nSign up here.
URL:https://powerinterfaith.org/event/philly-research-meeting-debrief-power-mapping-meeting/
LOCATION:PA
CATEGORIES:Civic Engagement,POWER Philadelphia
END:VEVENT
BEGIN:VEVENT
DTSTART;TZID=UTC:20241202T173000
DTEND;TZID=UTC:20241202T210000
DTSTAMP:20260420T040306
CREATED:20241120T155509Z
LAST-MODIFIED:20241120T203034Z
UID:10000028-1733160600-1733173200@powerinterfaith.org
SUMMARY:POWER INTERFAITH TESTIFIES AGAINST THE 76ER'S ARENA!
DESCRIPTION:Join POWER Interfaith at Philly City Council’s public hearing on the 76er’s arena. We will pack council chambers to show POWER’s power\, and to support our leaders who will offer public testimony on why the arena is a bad deal for our city. Meet at 5:30 on the Northeast corner of City Hall\, across from the hotel. Logistic email to follow.
URL:https://powerinterfaith.org/event/power-interfaith-testifies-against-the-76ers-arena/
LOCATION:Northeast Corner of City Hall\, 1400 John F. Kennedy Blvd.\, Philadelphia\, PA\, 19107\, United States
END:VEVENT
BEGIN:VEVENT
DTSTART;TZID=UTC:20241126T190000
DTEND;TZID=UTC:20241126T203000
DTSTAMP:20260420T040306
CREATED:20241104T210930Z
LAST-MODIFIED:20241104T210930Z
UID:10000027-1732647600-1732653000@powerinterfaith.org
SUMMARY:Climate Justice & Jobs Whole Team Meeting
DESCRIPTION:This is the Climate Justice & Jobs Whole Team Meeting for the month of November. The Climate Team is organizing tables where people can become registered to vote. Team Members can signs up to be point person for an event and volunteer to help out. \nScreenshot
URL:https://powerinterfaith.org/event/climate-justice-jobs-whole-team-meeting/
LOCATION:PA
END:VEVENT
BEGIN:VEVENT
DTSTART;TZID=UTC:20241115T100000
DTEND;TZID=UTC:20241115T111500
DTSTAMP:20260420T040306
CREATED:20241018T211419Z
LAST-MODIFIED:20241025T154611Z
UID:10000026-1731664800-1731669300@powerinterfaith.org
SUMMARY:Greenbuild 2024 Conference and Expo: “When Communities Write Policy: Federal Funding for Resident-led Solutions"
DESCRIPTION:Frontline communities—those experiencing the impacts of climate change first and worst—spend disproportionately more of their income on housing and energy. They also have higher economic losses and increased health impacts from extreme weather events. Federal funds are available for equitable decarbonization\, but how do we ensure that our actions\, especially policies\, are truly inclusive of residents typically excluded from planning decisions? The City of Philadelphia is one of 9 communities that IMT is supporting with Resilient and Efficient Codes Implementation (RECI) funding to develop community-led building decarbonization policy. The City will work with a local community-based organization\, POWER Interfaith\, to pioneer this “community-led policymaking” approach to ensure that frontline communities are represented in the climate solutions the City develops. In this approach\, community organizations partner with the City throughout the policymaking process to establish resident priorities\, overcome historic challenges\, and jointly find solutions to both social and environmental justice problems. This panelist format session will highlight what has been done so far in Philadelphia\, and what lessons exist for other jurisdictions working toward similar goals.
URL:https://powerinterfaith.org/event/greenbuild-2024-conference-and-expo-when-communities-write-policy-federal-funding-for-resident-led-solutions/
LOCATION:Pennsylvania Convention Center\, 1101 Arch Street\, Philadelphia\, PA\, 19107\, United States
END:VEVENT
BEGIN:VEVENT
DTSTART;TZID=UTC:20241112T180000
DTEND;TZID=UTC:20241112T203000
DTSTAMP:20260420T040306
CREATED:20240917T163009Z
LAST-MODIFIED:20240917T163009Z
UID:10000021-1731434400-1731443400@powerinterfaith.org
SUMMARY:Northwest Philly Research Meeting Training
DESCRIPTION:Join POWER Northwest Philly Congregations for a training on how to hold strategic research meetings with elected officials in order for us to learn more about development and housing in Philadelphia. We will hold research meetings over 4 weeks in order to move us closer to a city wide housing campaign. \nLocation TBD. \nSign up here.
URL:https://powerinterfaith.org/event/northwest-philly-research-meeting-training/
LOCATION:PA
CATEGORIES:Civic Engagement,POWER Philadelphia
END:VEVENT
BEGIN:VEVENT
DTSTART;TZID=UTC:20241026T130000
DTEND;TZID=UTC:20241026T140000
DTSTAMP:20260420T040306
CREATED:20240920T161350Z
LAST-MODIFIED:20240920T161350Z
UID:10000023-1729947600-1729951200@powerinterfaith.org
SUMMARY:Rising Up Together:  Child Health in the Face of Climate Change
DESCRIPTION:While people may disagree about the causes\, it is undeniable that shifts in temperature and weather\, i.e.\, climate change\, is impacting lives and livelihoods worldwide. Wildfires\, droughts\, air pollution\, extreme flooding\, and higher-than-normal temperatures are being experienced all over the globe. Children are a vulnerable population because of their unique physiology and dependence on adults for their well-being. This year’s 16th Annual CHOP Pediatric Global Health Conference\, “Rising Up Together: Child Health in the Face of Climate Change\,” will explore short- and long-term interventions to help mitigate the impact of climate change on child health. \nCo-Chairperson of Climate Justice and Jobs Team\, Pamela Darville\, will be discussing POWER’s approach to advocacy through its campaigns and community organizing for the reduction and elimination of carbon emissions that cause harm to children’s health and wellbeing. \nThe event takes place at CHOP’s HUB for Clinical Collaboration\, Room # 1632.
URL:https://powerinterfaith.org/event/rising-up-together-child-health-in-the-face-of-climate-change/
LOCATION:Children’s Hospital of Philadelphia\, 3401 Civic Center Blvd\, Philadelphia\, PA\, 19104\, United States
END:VEVENT
BEGIN:VEVENT
DTSTART;TZID=UTC:20241020T160000
DTEND;TZID=UTC:20241020T180000
DTSTAMP:20260420T040306
CREATED:20240930T152336Z
LAST-MODIFIED:20240930T152336Z
UID:10000024-1729440000-1729447200@powerinterfaith.org
SUMMARY:LANCASTER CANDIDATES FORUM IN THE PA 41ST HOUSE DISTRICT
DESCRIPTION:POWER Interfaith in Lancaster hosts a forum on public education and housing with candidates running for the PA 41st house seat. Join us for an afternoon of conversation and questions at Mt. Zion AME Church\, 222\, S. 5th St.\, Columbia.
URL:https://powerinterfaith.org/event/lancaster-candidates-forum-in-the-pa-41st-house-district/
LOCATION:Mt. Zion AME\, 222 S 5th St\, Colombia\, Pennsylvania
END:VEVENT
BEGIN:VEVENT
DTSTART;TZID=UTC:20241020T130000
DTEND;TZID=UTC:20241020T153000
DTSTAMP:20260420T040306
CREATED:20240903T133518Z
LAST-MODIFIED:20240917T153256Z
UID:10000012-1729429200-1729438200@powerinterfaith.org
SUMMARY:POWER Interfaith Leadership Canvassing (Philadelphia)
DESCRIPTION:The time has come for us to unify and ensure everyone’s voice is heard. Your vote matters now more than ever! POWER Interfaith will be mobilizing throughout the state of Pennsylvania to ensure every voice is heard this election cycle. We’re organizing community canvassing events over the next several months\, with this one being hosted in Lancaster! Let’s all get involved as we expand our democracy throughout the state of Pennsylvania! \nSign up here.
URL:https://powerinterfaith.org/event/power-interfaith-leadership-canvassing-philadelphia/
LOCATION:Mother Bethel AME Church\, 419 S. 6th Street\, Philadelphia\, 19147\, United States
CATEGORIES:Civic Engagement
END:VEVENT
BEGIN:VEVENT
DTSTART;TZID=UTC:20241019T093000
DTEND;TZID=UTC:20241019T120000
DTSTAMP:20260420T040306
CREATED:20241014T172542Z
LAST-MODIFIED:20241014T172542Z
UID:10000025-1729330200-1729339200@powerinterfaith.org
SUMMARY:POWER Interfaith Leader Canvassing Event (Pottstown)
DESCRIPTION:The time has come for us to unify and ensure everyone’s voice is heard. Your vote matters now more than ever! POWER Interfaith will be mobilizing throughout the state of Pennsylvania to ensure every voice is heard this election cycle. We’re organizing community canvassing events over the next several months\, with this one being hosted in Pottstown! Let’s all get involved as we expand our democracy throughout the state of Pennsylvania! \n 
URL:https://powerinterfaith.org/event/power-interfaith-leader-canvassing-event-pottstown/
LOCATION:Bethem AME Church\, 401 Beech Street\, Pottstown\, PA\, 19464\, United States
END:VEVENT
BEGIN:VEVENT
DTSTART;TZID=UTC:20241019T093000
DTEND;TZID=UTC:20241019T120000
DTSTAMP:20260420T040306
CREATED:20240913T164031Z
LAST-MODIFIED:20241014T132623Z
UID:10000018-1729330200-1729339200@powerinterfaith.org
SUMMARY:POWER Interfaith Leader Canvassing Event (Lancaster)
DESCRIPTION:The time has come for us to unify and ensure everyone’s voice is heard. Your vote matters now more than ever! POWER Interfaith will be mobilizing throughout the state of Pennsylvania to ensure every voice is heard this election cycle. We’re organizing community canvassing events over the next several months\, with this one being hosted in Philadelphia! Let’s all get involved as we expand our democracy throughout the state of Pennsylvania! \nSign up here. \n 
URL:https://powerinterfaith.org/event/power-interfaith-leader-canvassing-event-lancaster/
LOCATION:Ebenezer Baptist Church\, 701 N Lime Street\, Lancaster\, PA\, 17602\, United States
CATEGORIES:Civic Engagement
END:VEVENT
BEGIN:VEVENT
DTSTART;TZID=UTC:20241012T093000
DTEND;TZID=UTC:20241012T120000
DTSTAMP:20260420T040306
CREATED:20240917T162556Z
LAST-MODIFIED:20240917T162556Z
UID:10000020-1728725400-1728734400@powerinterfaith.org
SUMMARY:West/Southwest Philly Cluster Meeting
DESCRIPTION:
URL:https://powerinterfaith.org/event/west-southwest-philly-cluster-meeting/
LOCATION:Cookman Beloved Community Baptist Church\, 260 S 51st St\, Philadelphia\, PA\, 19139
CATEGORIES:Civic Engagement,POWER Philadelphia
END:VEVENT
BEGIN:VEVENT
DTSTART;TZID=UTC:20241006T123000
DTEND;TZID=UTC:20241006T150000
DTSTAMP:20260420T040306
CREATED:20240815T183435Z
LAST-MODIFIED:20240917T163745Z
UID:10000005-1728217800-1728226800@powerinterfaith.org
SUMMARY:POWER Interfaith Leader Canvassing Event (Philadelphia)
DESCRIPTION:The time has come for us to unify and ensure everyone’s voice is heard. Your vote matters now more than ever! POWER Interfaith will be mobilizing throughout the state of Pennsylvania to ensure every voice is heard this election cycle. \nJoin POWER Philly to get out the Vote for the November election! We will gather at St Vincent De Paul Parish at 109 E Price Street from 12:30-3 PM to get training on how to canvass and knock doors to talk to people about the importance of voting in November. We will also have an option to join a relational voter engagement training for people who don’t have the ability to canvass indoors\, where we will make phone calls to friends and family. \nSign up here. \n 
URL:https://powerinterfaith.org/event/power-interfaith-leader-canvassing-event/
LOCATION:St. Vincent’s\, Philadelphia\, Pennsylvania
CATEGORIES:Civic Engagement,POWER Philadelphia
END:VEVENT
BEGIN:VEVENT
DTSTART;TZID=UTC:20241005T093000
DTEND;TZID=UTC:20241005T120000
DTSTAMP:20260420T040306
CREATED:20240913T142942Z
LAST-MODIFIED:20240913T163105Z
UID:10000016-1728120600-1728129600@powerinterfaith.org
SUMMARY:POWER Interfaith Leadership Canvassing Event (Ardmore)
DESCRIPTION:The time has come for us to unify and ensure everyone’s voice is heard. Your vote matters now more than ever! POWER Interfaith will be mobilizing throughout the state of Pennsylvania to ensure every voice is heard this election cycle. We’re organizing community canvassing events over the next several months\, with this one being hosted in Ardmore! Let’s all get involved as we expand our democracy throughout the state of Pennsylvania! \nSign up here.
URL:https://powerinterfaith.org/event/power-interfaith-leadership-canvassing-event-ardmore/
LOCATION:St. Mary’s\, 36 Ardmore Ave\, Ardmore\, PA\, 19003\, United States
CATEGORIES:Civic Engagement
END:VEVENT
BEGIN:VEVENT
DTSTART;TZID=UTC:20240928T093000
DTEND;TZID=UTC:20240928T120000
DTSTAMP:20260420T040306
CREATED:20240815T203012Z
LAST-MODIFIED:20240913T163259Z
UID:10000010-1727515800-1727524800@powerinterfaith.org
SUMMARY:POWER Interfaith Leadership Canvassing Event (Lancaster)
DESCRIPTION:The time has come for us to unify and ensure everyone’s voice is heard. Your vote matters now more than ever! POWER Interfaith will be mobilizing throughout the state of Pennsylvania to ensure every voice is heard this election cycle. We’re organizing community canvassing events over the next several months\, with this one being hosted in Lancaster! Let’s all get involved as we expand our democracy throughout the state of Pennsylvania! \nSign up here. \n 
URL:https://powerinterfaith.org/event/power-interfaith-leadership-canvassing-event/
LOCATION:41st house district\, Columbia Boro.
CATEGORIES:Civic Engagement
END:VEVENT
BEGIN:VEVENT
DTSTART;TZID=UTC:20240926T180000
DTEND;TZID=UTC:20240926T200000
DTSTAMP:20260420T040306
CREATED:20240917T155300Z
LAST-MODIFIED:20240917T155300Z
UID:10000019-1727373600-1727380800@powerinterfaith.org
SUMMARY:POWER Center City Research Meeting Training
DESCRIPTION:Join POWER Center City Congregations for a training on how to hold strategic research meetings with elected officials in order for us to learn more about development and housing in Philadelphia. We will hold research meetings over 6 weeks in order to move us closer to a city wide housing campaign. We will gather at Old First Reformed United Church of Christ at 4th and Race. \nSign up here.
URL:https://powerinterfaith.org/event/power-center-city-research-meeting-training/
LOCATION:Old First Reformed United Church\, 151 N 4th St\, Philadelphia\, PA\, 19106
CATEGORIES:Civic Engagement,POWER Philadelphia
END:VEVENT
BEGIN:VEVENT
DTSTART;TZID=UTC:20240924T190000
DTEND;TZID=UTC:20240924T203000
DTSTAMP:20260420T040306
CREATED:20240910T194026Z
LAST-MODIFIED:20240910T194026Z
UID:10000014-1727204400-1727209800@powerinterfaith.org
SUMMARY:Climate Justice & Jobs Whole Team Meeting (September)
DESCRIPTION:This is the Climate Justice & Jobs Whole Team Meeting for the month of September. The Climate Team is organizing tables where people can become registered to vote. Team Members can signs up to be point person for an event and volunteer to help out.
URL:https://powerinterfaith.org/event/climate-justice-jobs-whole-team-meeting-september/
LOCATION:PA
END:VEVENT
BEGIN:VEVENT
DTSTART;TZID=UTC:20240922T080000
DTEND;TZID=UTC:20240922T170000
DTSTAMP:20260420T040306
CREATED:20240913T143154Z
LAST-MODIFIED:20240913T143214Z
UID:10000017-1726992000-1727024400@powerinterfaith.org
SUMMARY:POWER Interfaith Leadership Canvassing Event (Lehigh Valley)
DESCRIPTION:The time has come for us to unify and ensure everyone’s voice is heard. Your vote matters now more than ever! POWER Interfaith will be mobilizing throughout the state of Pennsylvania to ensure every voice is heard this election cycle. We’re organizing community canvassing events over the next several months\, with this one being hosted in Lehigh Valley! Let’s all get involved as we expand our democracy throughout the state of Pennsylvania!
URL:https://powerinterfaith.org/event/power-interfaith-leadership-canvassing-event-lehigh-valley-2/
LOCATION:St. Johns\, 718 Pawnee Street\, Bethlehem\, PA\, 18015\, United States
END:VEVENT
END:VCALENDAR