BEGIN:VCALENDAR
VERSION:2.0
PRODID:-//POWER Interfaith - ECPv6.15.20//NONSGML v1.0//EN
CALSCALE:GREGORIAN
METHOD:PUBLISH
X-ORIGINAL-URL:https://powerinterfaith.org
X-WR-CALDESC:Events for POWER Interfaith
REFRESH-INTERVAL;VALUE=DURATION:PT1H
X-Robots-Tag:noindex
X-PUBLISHED-TTL:PT1H
BEGIN:VTIMEZONE
TZID:UTC
BEGIN:STANDARD
TZOFFSETFROM:+0000
TZOFFSETTO:+0000
TZNAME:UTC
DTSTART:20250101T000000
END:STANDARD
END:VTIMEZONE
BEGIN:VEVENT
DTSTART;TZID=UTC:20260310T180000
DTEND;TZID=UTC:20260310T200000
DTSTAMP:20260420T035302
CREATED:20260303T173325Z
LAST-MODIFIED:20260304T172848Z
UID:10000092-1773165600-1773172800@powerinterfaith.org
SUMMARY:NW Philly Cluster Meeting
DESCRIPTION:Join us at our meeting this month\, we will be discussing the importance of strong teams for building our collective power and upcoming public actions in our citywide campaign. If you are a leader who has been building a team in your congregation\, remember to invite your team members to join this training as well! \nYou can attend in person at Germantown Friends or virtually! \nRegister here
URL:https://powerinterfaith.org/event/nw-cluster-meeting/
LOCATION:Germantown Friends\, 47 W Coulter Street\, Philadelphia\, PA\, 19144\, United States
END:VEVENT
BEGIN:VEVENT
DTSTART;TZID=UTC:20260312T180000
DTEND;TZID=UTC:20260312T200000
DTSTAMP:20260420T035302
CREATED:20260303T181545Z
LAST-MODIFIED:20260303T181545Z
UID:10000094-1773338400-1773345600@powerinterfaith.org
SUMMARY:Norristown Community Conversation w/ School Board
DESCRIPTION:Join parents and school board members as we have a conversation about the changes we need in our school district. Parents and community in Norristown will present ideas and information on what is needed for students and parents alike in the district to improve academics\, community connections\, and additional resources for kids.
URL:https://powerinterfaith.org/event/norristown-community-conversation-w-school-board-2/
LOCATION:First Presbyterian  Church of Norristown\, 514 Dekalb Street\, Norristown\, PA\, 19401\, United States
END:VEVENT
BEGIN:VEVENT
DTSTART;TZID=UTC:20260317T180000
DTEND;TZID=UTC:20260317T200000
DTSTAMP:20260420T035302
CREATED:20260303T175032Z
LAST-MODIFIED:20260303T175451Z
UID:10000093-1773770400-1773777600@powerinterfaith.org
SUMMARY:POWER Philly Center City Neighborhood Meeting
DESCRIPTION:Join POWER Congregations for our monthly gathering\, and for a training on how to build and sustain strong organizing teams. We will gather from 6-8 PM at Old First Reformed Church at 4th and Race. Dinner will be served. \nRegister here
URL:https://powerinterfaith.org/event/power-philly-center-city-neighborhood-meeting/
LOCATION:Old First Reformed United Church\, 151 N 4th St\, Philadelphia\, PA\, 19106
END:VEVENT
BEGIN:VEVENT
DTSTART;TZID=UTC:20260414T180000
DTEND;TZID=UTC:20260414T200000
DTSTAMP:20260420T035302
CREATED:20260402T185932Z
LAST-MODIFIED:20260402T185932Z
UID:10000095-1776189600-1776196800@powerinterfaith.org
SUMMARY:POWER NORTHWEST PHILLY CLUSTER MEETING
DESCRIPTION:Join our Northwest Philly cluster for our monthly team meeting! \n  \nIn person and virtual (ZOOM) options available. \nClick here to register
URL:https://powerinterfaith.org/event/power-northwest-philly-cluster-meeting-2/
LOCATION:Germantown Friends\, 47 W Coulter Street\, Philadelphia\, PA\, 19144\, United States
END:VEVENT
BEGIN:VEVENT
DTSTART;TZID=UTC:20260416T190000
DTEND;TZID=UTC:20260416T203000
DTSTAMP:20260420T035302
CREATED:20260407T195406Z
LAST-MODIFIED:20260407T195406Z
UID:10000096-1776366000-1776371400@powerinterfaith.org
SUMMARY:W/SW Philly Cluster Meeting
DESCRIPTION:Our W/SW Philly Cluster meeting is scheduled for April 16! \nThis is your perfect opportunity to develop close relationships with your neighbors\, and discuss next steps in our organizing for an affordable Philadelphia. \n  \nClick here to join this meeting taking place via zoom!
URL:https://powerinterfaith.org/event/w-sw-philly-cluster-meeting/
LOCATION:Virtual
END:VEVENT
BEGIN:VEVENT
DTSTART;TZID=UTC:20260426T143000
DTEND;TZID=UTC:20260426T170000
DTSTAMP:20260420T035302
CREATED:20260206T152513Z
LAST-MODIFIED:20260310T143356Z
UID:10000091-1777213800-1777222800@powerinterfaith.org
SUMMARY:PEOPLE'S HEARING: COMMUNITY BASED\, AFFORDABLE\, CLEAN ELECTRICITY
DESCRIPTION:Make your voice heard at the People’s Hearing! Share your concerns and your values at the People’s Hearing on community based affordable\, clean energy! Learn about community based energy from a variety of experts. Then\, talk about what’s most important to you! Is clean energy your biggest concern? Affordable electric bills? Reliable power during storms? More community input? Greater transparency in how our electric system is run? All of the above? Something else? We will summarize the comments from the hearing\, along with brief quotes. (**We will check with everyone and use quotes only with permission.**) We will submit the summary and quotes to the PA Public Utility Commission. This is your chance to influence how our electric system is run! Come and share what’s important to you. \nClick to register
URL:https://powerinterfaith.org/event/peoples-hearing-community-based-affordable-clean-electricity/
LOCATION:Congregation Rodeph Shalom\, 615 N Broad Street\, Philadelphia\, PA\, 19123\, United States
CATEGORIES:Climate
END:VEVENT
BEGIN:VEVENT
DTSTART;TZID=UTC:20260501T160000
DTEND;TZID=UTC:20260501T180000
DTSTAMP:20260420T035302
CREATED:20260409T154351Z
LAST-MODIFIED:20260409T155554Z
UID:10000097-1777651200-1777658400@powerinterfaith.org
SUMMARY:WORKERS OVER BILLIONAIRES MAY DAY RALLY
DESCRIPTION:Join POWER Interfaith\, partnering with the Philadelphia AFL-CIO and over 20 different labor unions and community organizations\, for the Workers over Billionaires Rally\, where we will declare our vision for a Philadelphia that prioritizes regular\, working people\, over billionaires. We will gather on Friday\, May 1st\, at 4 PM at Philadelphia City Hall. \nClick here to register
URL:https://powerinterfaith.org/event/workers-over-billionaires-may-day-rally/
LOCATION:Northeast Corner of City Hall\, 1400 John F. Kennedy Blvd.\, Philadelphia\, PA\, 19107\, United States
END:VEVENT
END:VCALENDAR