BEGIN:VCALENDAR
VERSION:2.0
PRODID:-//POWER Interfaith - ECPv6.15.20//NONSGML v1.0//EN
CALSCALE:GREGORIAN
METHOD:PUBLISH
X-ORIGINAL-URL:https://powerinterfaith.org
X-WR-CALDESC:Events for POWER Interfaith
REFRESH-INTERVAL;VALUE=DURATION:PT1H
X-Robots-Tag:noindex
X-PUBLISHED-TTL:PT1H
BEGIN:VTIMEZONE
TZID:UTC
BEGIN:STANDARD
TZOFFSETFROM:+0000
TZOFFSETTO:+0000
TZNAME:UTC
DTSTART:20250101T000000
END:STANDARD
END:VTIMEZONE
BEGIN:VEVENT
DTSTART;TZID=UTC:20260416T190000
DTEND;TZID=UTC:20260416T203000
DTSTAMP:20260419T153148
CREATED:20260407T195406Z
LAST-MODIFIED:20260407T195406Z
UID:10000096-1776366000-1776371400@powerinterfaith.org
SUMMARY:W/SW Philly Cluster Meeting
DESCRIPTION:Our W/SW Philly Cluster meeting is scheduled for April 16! \nThis is your perfect opportunity to develop close relationships with your neighbors\, and discuss next steps in our organizing for an affordable Philadelphia. \n  \nClick here to join this meeting taking place via zoom!
URL:https://powerinterfaith.org/event/w-sw-philly-cluster-meeting/
LOCATION:Virtual
END:VEVENT
END:VCALENDAR